Workbook

Sheet Template
B2: President | C2: Daniel | D2: Day | E2: Hours | F2: Tasks | H2: Residential | I2: Zoe | J2: Day | K2: Hours | L2: Tasks
D3: Monday | J3: Monday
D4: Tuesday | J4: Tuesday
D5: Wednesday | J5: Wednesday
D6: Thursday | J6: Thursday
D7: Friday | J7: Friday
D8: Saturday | J8: Saturday
D9: Sunday | J9: Sunday
E10: =SUM(E3:E9) -> 0 | K10: =SUM(K3:K9) -> 0
B12: Admin Vice President | C12: Kamesha | D12: Day | E12: Hours | F12: Tasks | H12: Postgraduate | I12: Fergus | J12: Day | K12: Hours | L12: Tasks
D13: Monday | J13: Monday
D14: Tuesday | J14: Tuesday
D15: Wednesday | J15: Wednesday
D16: Thursday | J16: Thursday
D17: Friday | J17: Friday
D18: Saturday | J18: Saturday
D19: Sunday | J19: Sunday
E20: =SUM(E13:E19) -> 0 | K20: =SUM(K13:K19) -> 0
B22: Finance and Strategy | C22: Troy | D22: Day | E22: Hours | F22: Tasks | H22: Clubs and Socs | I22: Ella | J22: Day | K22: Hours | L22: Tasks
D23: Monday | J23: Monday
D24: Tuesday | J24: Tuesday
D25: Wednesday | J25: Wednesday
D26: Thursday | J26: Thursday
D27: Friday | J27: Friday
D28: Saturday | J28: Saturday
D29: Sunday | J29: Sunday
E30: =SUM(E23:E29) -> 0 | K30: =SUM(K23:K29) -> 0
B32: Academic | C32: Hansini | D32: Day | E32: Hours | F32: Tasks | H32: International | I32: Irfaan | J32: Day | K32: Hours | L32: Tasks
D33: Monday | J33: Monday
D34: Tuesday | J34: Tuesday
D35: Wednesday | J35: Wednesday
D36: Thursday | J36: Thursday
D37: Friday | J37: Friday
D38: Saturday | J38: Saturday
D39: Sunday | J39: Sunday
E40: =SUM(E33:E39) -> 0 | K40: =SUM(K33:K39) -> 0
B42: Welfare and Equity | C42: Rihana | D42: Day | E42: Hours | F42: Tasks | H42: Political | I42: Flynn | J42: Day | K42: Hours | L42: Tasks
D43: Monday | J43: Monday
D44: Tuesday | J44: Tuesday
D45: Wednesday | J45: Wednesday
...

Sheet JAN 26 - FEB 1
B2: President | C2: Daniel | D2: Day | E2: Hours | F2: Tasks | H2: Residential | I2: Zoe | J2: Day | K2: Hours | L2: Tasks
D3: Monday | E3: 9 | F3: Emails, draft KPI review, admin, Debbie catch up, ORI organising & discussions, training re planning, chat w/ critic, call w/ Gina, emails | J3: Monday | K3: 0.5 | L3: Emails, sorting meetings with otago housing alliance and quentin of Renters United
D4: Tuesday | E4: 9.5 | F4: Emails, admin, Media training w/ Lianne, Local Alcohol Policy discussion, Meeting w/ COO, Toastmasters | J4: Tuesday
D5: Wednesday | E5: 7.5 | F5: Emails & organising, Summer in Dunners BBQ, more work on Board meeting papers, more emails & discussions w/ Donna & Troy | J5: Wednesday
D6: Thursday | E6: 8.5 | F6: Emails, chat about Committee's w/ Debbie & Donna, Gina & Debbie catch up, constitution studying | J6: Thursday | K6: 2 | L6: Pamphlet design, uniprint call, ODT article commentary on dunedin rentals, giving a student advice on their tenancy issues
D7: Friday | E7: 6 | F7: Emails, scheduling/rescheduling, chat to student support, emails, council induction readings | J7: Friday | K7: 1 | L7: Pamphlet design, meeting with Quintin from Renters United
D8: Saturday | J8: Saturday | K8: 4 | L8: Pamphlet designs, emailing MBIE, general emails
D9: Sunday | E9: 1 | F9: Emails & quick readings | J9: Sunday
E10: =SUM(E3:E9) -> 41.5 | K10: =SUM(K3:K9) -> 7.5
B12: Admin Vice President | C12: Kamesha | D12: Day | E12: Hours | F12: Tasks | H12: Postgraduate | I12: Fergus | J12: Day | K12: Hours | L12: Tasks
D13: Monday | J13: Monday | K13: 4.5 | L13: HEC Introduction meeting, ORI organising & discussions
D14: Tuesday | J14: Tuesday
D15: Wednesday | J15: Wednesday
D16: Thursday | E16: 3 | F16: More catch ups w 10 hour roles. Drafting of year plan | J16: Thursday | K16: 2.5 | L16: HEC Meeting, chat with Daniel & Troy, picking up tablet for O Week stand
D17: Friday | E17: 2 | F17: reading of relevnt policies and consitution online | J17: Friday
D18: Saturday | J18: Saturday
D19: Sunday | J19: Sunday
E20: =SUM(E13:E19) -> 5 | K20: =SUM(K13:K19) -> 7
B22: Finance and Strategy | C22: Troy | D22: Day | E22: Hours | F22: Tasks | H22: Clubs and Socs | I22: Ella | J22: Day | K22: Hours | L22: Tasks
D23: Monday | E23: 6 | F23: MOU Memo, Committees Doc, Common Seal, BBQ Planning, Call w/Flynn re committees, Political Strategy Planning | J23: Monday
D24: Tuesday | E24: 6 | F24: One Call, Terms of Reference : Residential Committee, MOU emails, MP emailing, O Week Planning, Meeting Planning with Donna | J24: Tuesday
D25: Wednesday | E25: 7.5 | F25: Summer in Dunners BBQ, Terms of Reference work (Residential Complete), Catch up w/Donna, Constitution Reading, Emails and Admin, O week Planning re: Meager and Mooney | J25: Wednesday
D26: Thursday | E26: 5 | F26: Terms of Reference, Constitution Planning, O Week orders re: Catering, Exec Meeting Timetabling | J26: Thursday
D27: Friday | E27: 5.5 | F27: Finished Terms of Reference, Calendar, Admin, Emails, Chat w/Matt, Policy Calendar, Memo Writing, UUL handover | J27: Friday
D28: Saturday | E28: 1.5 | F28: Finished Memo's for Residential | J28: Saturday
D29: Sunday | J29: Sunday
E30: =SUM(E23:E29) -> 31.5 | K30: =SUM(K23:K29) -> 0
B32: Academic | C32: Hansini | D32: Day | E32: Hours | F32: Tasks | H32: International | I32: Irfaan | J32: Day | K32: Hours | L32: Tasks
D33: Monday | J33: Monday
D34: Tuesday | J34: Tuesday
D35: Wednesday | J35: Wednesday
D36: Thursday | J36: Thursday
D37: Friday | J37: Friday
D38: Saturday | J38: Saturday
D39: Sunday | J39: Sunday
E40: =SUM(E33:E39) -> 0 | K40: =SUM(K33:K39) -> 0
B42: Welfare and Equity | C42: Rihana | D42: Day | E42: Hours | F42: Tasks | H42: Political | I42: Flynn | J42: Day | K42: Hours | L42: Tasks
D43: Monday | J43: Monday
D44: Tuesday | J44: Tuesday
D45: Wednesday | J45: Wednesday
...

Sheet JAN 12 - 18
B2: President | C2: Daniel | D2: Day | E2: Hours | F2: Tasks | H2: Residential | I2: Zoe | J2: Day | K2: Hours | L2: Tasks
D3: Monday | E3: 7.25 | F3: Emails, yarns to Donna, catch up w/ Debbie, Performance Review stuff, catch up w/ Zoe, reading old docs etc | J3: Monday | K3: 0
D4: Tuesday | E4: 9 | F4: Emails, admin, catch up w/ Sami & Jarna, BDS stuff, emails, admin | J4: Tuesday | K4: 0
D5: Wednesday | E5: 8.5 | F5: Emails, more BDS stuff, chats to Planet, Summer in dunners, Peformance review material reading, catch up w/ Gina re: Performance review & training, more emails & admin, ordering deloitte recommendations for discussion | J5: Wednesday | K5: 3 | L5: Pamphlet designing. Been mostly working on the first version lately, all being designed on Adobe Illustrator through my personal account. Sending out emails.
D6: Thursday | E6: 8 | F6: Emails, more BDS related admin, grad gown w/ Donna, Meeting Greg from Domino's, hanging out w/ Critic and moving furniture, lots of scheduling fo the year, 100's of pages council summer reading pack | J6: Thursday | K6: 4 | L6: Working on the third draft of the pamphlet. Rewording and formatting, researching facts and information, emails.
D7: Friday | E7: 9 | F7: Emails, chat to Kamesha & some introductions, chat to Gina, Debbie's Performance review, lunch w/ Gina to discuss PR & Induction, chat to critic & Liz, more emails & scheduling, buying a diary | J7: Friday | K7: 4 | L7: Taking in design, formatting and text feedback from Quintin of Renters United. Onto the third draft of the pamphlet. Sent it out to Student Support for review, setting up a meeting with Quintin to go over the latest draft.
D8: Saturday | E8: 0.5 | F8: Catch up w/ Kamesha | J8: Saturday | K8: 1 | L8: More editing, sending emails out to organisations involved in the pamphlet.
D9: Sunday | J9: Sunday
E10: =SUM(E3:E9) -> 42.25 | K10: =SUM(K3:K9) -> 12
B12: Admin Vice President | C12: Kamesha | D12: Day | E12: Hours | F12: Tasks | H12: Postgraduate | I12: Fergus | J12: Day | K12: Hours | L12: Tasks
D13: Monday | J13: Monday
D14: Tuesday | J14: Tuesday
D15: Wednesday | J15: Wednesday
D16: Thursday | J16: Thursday
D17: Friday | F17: picked up keys, admin, signing stuff + emails | J17: Friday
D18: Saturday | F18: meeting w daniel, 2.5 hours that weekend have moved them to beginning of feb as i picked up keys on a friday arvo lol | J18: Saturday
D19: Sunday | J19: Sunday
E20: =SUM(E13:E19) -> 0 | K20: =SUM(K13:K19) -> 0
B22: Finance and Strategy | C22: Troy | D22: Day | E22: Hours | F22: Tasks | H22: Clubs and Socs | I22: Ella | J22: Day | K22: Hours | L22: Tasks
D23: Monday | J23: Monday
D24: Tuesday | J24: Tuesday
D25: Wednesday | J25: Wednesday
D26: Thursday | J26: Thursday
D27: Friday | J27: Friday
D28: Saturday | J28: Saturday
D29: Sunday | J29: Sunday
E30: =SUM(E23:E29) -> 0 | K30: =SUM(K23:K29) -> 0
B32: Academic | C32: Hansini | D32: Day | E32: Hours | F32: Tasks | H32: International | I32: Irfaan | J32: Day | K32: Hours | L32: Tasks
D33: Monday | J33: Monday
D34: Tuesday | J34: Tuesday
D35: Wednesday | J35: Wednesday | K35: 2 | L35: Meeting with OISA Co-President 'Adlina to discuss Clubs Day and IFF matters and plan for the year.
D36: Thursday | J36: Thursday
D37: Friday | J37: Friday
D38: Saturday | J38: Saturday
D39: Sunday | J39: Sunday
E40: =SUM(E33:E39) -> 0 | K40: =SUM(K33:K39) -> 2
B42: Welfare and Equity | C42: Rihana | D42: Day | E42: Hours | F42: Tasks | H42: Political | I42: Flynn | J42: Day | K42: Hours | L42: Tasks
D43: Monday | J43: Monday
D44: Tuesday | J44: Tuesday
D45: Wednesday | J45: Wednesday
...

Sheet JAN 19 - 25
B2: President | C2: Daniel | D2: Day | E2: Hours | F2: Tasks | H2: Residential | I2: Zoe | J2: Day | K2: Hours | L2: Tasks
D3: Monday | E3: 9 | F3: Emails & admin, weekly catch up w/ Debbie, meeting prep, meeting w/ MBIE, meeting w/ Advisory board & Paul, Admin, discussing all things OUSA w/ Troy, Exec BDS discussion | J3: Monday | K3: 0
D4: Tuesday | E4: 8.5 | F4: Emails & admin, Lots of handover stuff w/ Troy, CEO remuneration stuff, Toastmasters | J4: Tuesday | K4: 1.5 | L4: Contact with Citizens Advice Bureau, editing the pamphlet to involve their logos and collaboration. Taking in community law's advice, reading over old flatting mag they provided.
D5: Wednesday | E5: 8 | F5: Emails, Catch up w/ Trish, More handover stuff w/ Troy, Summer in Dunners BBQ, Admin, Training admin, Long call w/ Gina | J5: Wednesday | K5: 0.5 | L5: emails, pamphlet
D6: Thursday | E6: 7 | F6: Emails & admin, chat to Planet, NDSA meeting, chatting to Fergus, more random admin, scheduling & emails | J6: Thursday | K6: 4 | L6: emails, pamphlet, work on the second pamphlet version, contact with uniprint
D7: Friday | E7: 7 | F7: Performance review follow up, and prep, and letter writing, standing committee meeting, admin, emails, discussion w/ protest planners | J7: Friday
D8: Saturday | J8: Saturday
D9: Sunday | J9: Sunday
E10: =SUM(E3:E9) -> 39.5 | K10: =SUM(K3:K9) -> 6
B12: Admin Vice President | C12: Kamesha | D12: Day | E12: Hours | F12: Tasks | H12: Postgraduate | I12: Fergus | J12: Day | K12: Hours | L12: Tasks
D13: Monday | J13: Monday | K13: 1 | L13: BDS Discussion
D14: Tuesday | J14: Tuesday
D15: Wednesday | J15: Wednesday
D16: Thursday | J16: Thursday | K16: 3 | L16: Uni paper interview about me, chatting with Donna & getting key, chat with Daniel regarding roles, actions etc. Sorting a diary for the year. Organising a meeting with the Human Ethics Committee.
D17: Friday | F17: Emails, Standing comm meeting, Online catch ups with 10 hour roles, more admin | J17: Friday
D18: Saturday | J18: Saturday
D19: Sunday | J19: Sunday
K20: =SUM(K13:K19) -> 4
B22: Finance and Strategy | C22: Troy | D22: Day | E22: Hours | F22: Tasks | H22: Clubs and Socs | I22: Ella | J22: Day | K22: Hours | L22: Tasks
D23: Monday | E23: 7 | F23: Advisory Board with Paul, BDS Discussion, Chat w/ Daniel, Catch up w/Donna | J23: Monday
D24: Tuesday | E24: 5 | F24: UUL Reading, Chat w/Matt, Reading Meeting Minutes, MOU, Budget Readings, Banking Admin | J24: Tuesday
D25: Wednesday | E25: 5 | F25: Pamplet Reading, Summer in Dunners BBQ, Committees Work, BDS Reading, Email Reading, Attempting to wrap my head around this place, Training Admin | J25: Wednesday
D26: Thursday | E26: 2 | F26: Committees Doc, Emails, | J26: Thursday
D27: Friday | E27: 4 | F27: Meeting w/ Debbie, Standing Committee, More Committees Work, Review Reading, Political Strategy Work | J27: Friday
D28: Saturday | J28: Saturday
D29: Sunday | J29: Sunday
E30: =SUM(E23:E29) -> 23 | K30: =SUM(K23:K29) -> 0
B32: Academic | C32: Hansini | D32: Day | E32: Hours | F32: Tasks | H32: International | I32: Irfaan | J32: Day | K32: Hours | L32: Tasks
D33: Monday | J33: Monday
D34: Tuesday | J34: Tuesday
D35: Wednesday | J35: Wednesday
D36: Thursday | J36: Thursday
D37: Friday | J37: Friday
D38: Saturday | J38: Saturday
D39: Sunday | J39: Sunday
E40: =SUM(E33:E39) -> 0 | K40: =SUM(K33:K39) -> 0
B42: Welfare and Equity | C42: Rihana | D42: Day | E42: Hours | F42: Tasks | H42: Political | I42: Flynn | J42: Day | K42: Hours | L42: Tasks
D43: Monday | J43: Monday
D44: Tuesday | J44: Tuesday
D45: Wednesday | J45: Wednesday
...

Sheet FEB 2 - 8
B2: President | C2: Daniel | D2: Day | E2: Hours | F2: Tasks | H2: Residential | I2: Zoe | J2: Day | K2: Hours | L2: Tasks
D3: Monday | E3: 4.5 | F3: Admin, catch up & lunch w/ Fran at Parliament, emails, more council induction readings, ATSA catch up | J3: Monday | K3: 3 | L3: Office time, pamphlet work, emails, getting a sample of my pamphlet, touches up leading to the final printing.
D4: Tuesday | E4: 10 | F4: Media, Emails, chats to Kamesha, Troy, Donna, helping critic, meeting w/ Dwaine, more emails, Uni Presidents meeting, follow up admin, linking up mentors & scheduling | J4: Tuesday
D5: Wednesday | E5: 10 | F5: Emails, Summer in Dunners, discussing exec travel, discussing exec & general election dates, quick meeting w/ Te rito exec, long call w/ Gina to make agenda's, emails | J5: Wednesday | K5: 4 | L5: Pamphlet editing, emails, scheduling, planning flat fest
D6: Thursday | E6: 11.5 | F6: Lots of emails, Changes to Board agenda, delegating tasks etc, chat to Debbie, Good one meeting, even more emails, more Board agenda working for next week, chat to maat, prep for next week, ordering, readings | J6: Thursday
D7: Friday | J7: Friday | K7: 2 | L7: Pamphlet final edits and formatting, reading over and spell checking, emails
D8: Saturday | J8: Saturday | K8: 1 | L8: Emails and finalising pamphlet, sent off to uniprint for printing.
D9: Sunday | E9: 2.5 | F9: Readings, emails & admin | J9: Sunday
E10: =SUM(E3:E9) -> 38.5 | K10: =SUM(K3:K9) -> 10
B12: Admin Vice President | C12: Kamesha | D12: Day | E12: Hours | F12: Tasks | H12: Postgrad | I12: Fergus | J12: Day | K12: Hours | L12: Tasks
D13: Monday | E13: 1.5 | F13: Emails + Admin and drafting of ideas before coming in in person | J13: Monday
D14: Tuesday | E14: 6 | F14: mmeting w Troy about POLCOM planning, chatting w Dan and Troy all things admin and big picture plan for the year. Admin, emails, drafting year plan for exec, chats w Marketing re student engagment for the year | J14: Tuesday
D15: Wednesday | E15: 6.5 | F15: Meeting w Daniel re ATZA Conference, Summer in Dunners BBQ, check in w Flynn re election planning. Emails. | J15: Wednesday | K15: 4 | L15: Summer in Dunners BBQ, exec catch up, TRM meeting, sorting Emails
D16: Thursday | E16: 3.5 | F16: HUMS Board commitee meeting, emails | J16: Thursday | K16: 5 | L16: Article photo, emails, scheduling, catch up with Joshua Stewart regarding post-grad club, organising SPS SGM
D17: Friday | E17: 1 | F17: Emials | J17: Friday
D18: Saturday | E18: 2.5 | J18: Saturday
D19: Sunday | J19: Sunday | K19: 1 | L19: Sending SGS SGM notice request to Critic, organising diary
E20: =SUM(E13:E19) -> 21 | K20: =SUM(K13:K19) -> 10
B22: Finance and Strategy | C22: Troy | D22: Day | E22: Hours | F22: Tasks | H22: Clubs and Socs | I22: Ella | J22: Day | K22: Hours | L22: Tasks
D23: Monday | E23: 6.5 | F23: ASB Trip w/Matt, Memo, Pamphlet writing, Catch up w/Donna, Committee allocations, Chat with Dan, Catch up with Zoe | J23: Monday
D24: Tuesday | E24: 7.5 | F24: POLCOM planning w/ Kamesha, Yearly planning, Campus visit planning, Chat w/Matt, Chat w/Donna, MOU discussions | J24: Tuesday
D25: Wednesday | E25: 7.5 | F25: MOU Memo, Summers in Dunners, Donna 35 years, Training planning, BBQ sorting re O week, Chat w/Emily, Donna, Hanna, Daniel, Met with TRM, Budget stuff w/Matt, Yearly planning | J25: Wednesday | K25: 2 | L25: Paper work and emails
D26: Thursday | E26: 7 | F26: Training planning, chat w/Debbie, Exec Board Plan, Meeting timetabling, critic, Fast Net ASB with Matt, Tent City Planning, Minutes reading/consitution standing orders stuff, exec photo 150 sorting | J26: Thursday
D27: Friday | E27: 1 | F27: Reading up on my Committees (WEB PSC and UUL), Emailing KAANS re: BBQ, Figuring out campaigns budget when/what can we spend | J27: Friday
D28: Saturday | E28: 0.5 | F28: MP emails | J28: Saturday
D29: Sunday | J29: Sunday
E30: =SUM(E23:E29) -> 30 | K30: =SUM(K23:K29) -> 2
B32: Academic | C32: Hansini | D32: Day | E32: Hours | F32: Tasks | H32: International | I32: Irfaan | J32: Day | K32: Hours | L32: Tasks
D33: Monday | J33: Monday | K33: 1 | L33: Emails and speaking to Caroline for O-Week prep
D34: Tuesday | J34: Tuesday | K34: 1.5 | L34: Drafting kitchen roster and sending out to clubs
D35: Wednesday | J35: Wednesday | K35: 3 | L35: Preparing rostering and providing instructions to OISA execs, fixed teething issues for IFF folder, attended to club emails and queries.
D36: Thursday | J36: Thursday
D37: Friday | J37: Friday
D38: Saturday | J38: Saturday
D39: Sunday | J39: Sunday
E40: =SUM(E33:E39) -> 0 | K40: =SUM(K33:K39) -> 5.5
B42: Welfare and Equity | C42: Rihana | D42: Day | E42: Hours | F42: Tasks | H42: Political | I42: Flynn | J42: Day | K42: Hours | L42: Tasks
D43: Monday | J43: Monday
D44: Tuesday | J44: Tuesday
D45: Wednesday | J45: Wednesday
...

Sheet FEB 9 - 15
B2: President | C2: Daniel | D2: Day | E2: Hours | F2: Tasks | H2: Residential | I2: Zoe | J2: Day | K2: Hours | L2: Tasks
D3: Monday | E3: 10.5 | F3: Admin, Exec induction, Holdings meeting, back to exec induction, admin, emails, chat to matt, call w/ Gina | J3: Monday | K3: 7 | L3: Exec induction day 1
D4: Tuesday | E4: 11.5 | F4: Exec induction day 2, admin, emails, critic castle street interviews | J4: Tuesday | K4: 7 | L4: exec induction day 2, pamphlet printing proof and final organisation with Uniprint
D5: Wednesday | E5: 8.75 | F5: Emails, media, catch up w/ Debbie, summer in dunners, Exec Board meeting & wrap up, emails | J5: Wednesday | K5: 2 | L5: exec board meeting
D6: Thursday | E6: 8.75 | F6: Emails, admin, otago housing alliance meeting, St Paddy's day meeting, meeting follow up, BSust discussion, council work | J6: Thursday | K6: 2 | L6: Combined colleges introduction, otago housing alliance meeting, emails, flat fest plans
D7: Friday | E7: 7.5 | F7: Catch up with Adeleine, David Clark meeting, Debbie & Gina catch up, admin, media, Mentor meeting | J7: Friday | K7: 2 | L7: Sophia charter meeting with Student Support
D8: Saturday | J8: Saturday
D9: Sunday | E9: 4.5 | F9: Picking up BBQ supplies, 350 pages of Council readings, admin | J9: Sunday
E10: =SUM(E3:E9) -> 51.5 | K10: =SUM(K3:K9) -> 20
B12: Admin Vice President | C12: Kamesha | D12: Day | E12: Hours | F12: Tasks | H12: Postgraduate | I12: Fergus | J12: Day | K12: Hours | L12: Tasks
D13: Monday | E13: 8 | F13: Exec induction day 1, admin and emails, prep for day 2 | J13: Monday | K13: 7 | L13: Exec induction day 1, admin and emails
D14: Tuesday | E14: 7 | F14: Exec induction day 2 | J14: Tuesday | K14: 7 | L14: Exec induction day 2
D15: Wednesday | E15: 4 | F15: board meeting, bbq, emails re academic commitee | J15: Wednesday | K15: 4 | L15: Summer in dunners, exec board meeting
D16: Thursday | E16: 4 | F16: Roster making, Tent City Prep, BSust discussion meeting | J16: Thursday | K16: 2.5 | L16: uni academic comm meeting, catch up with Daniel
D17: Friday | E17: 2 | F17: finalising roster, website training | J17: Friday
D18: Saturday | J18: Saturday
D19: Sunday | E19: 0.5 | J19: Sunday
E20: =SUM(E13:E19) -> 25.5 | K20: =SUM(K13:K19) -> 20.5
B22: Finance and Strategy | C22: Troy | D22: Day | E22: Hours | F22: Tasks | H22: Clubs and Socs | I22: Ella | J22: Day | K22: Hours | L22: Tasks
D23: Monday | E23: 9 | F23: Induction set up, Induction 1, Planning with Donna, Planning with Jenna, Planning with Trent | J23: Monday | K23: 4 | L23: Training day!
D24: Tuesday | E24: 10 | F24: Induction day 2, Invoice Approving, Catch up w/Donna about tm meeting, board reading, CE reading, | J24: Tuesday | K24: 9 | L24: Training day 2 + reading all of the documents on board pro and catching up with emails
D25: Wednesday | E25: 5.5 | F25: Summer in Dunners, Meeting with Trent, Exec Board Meeting, Planning for Commerce Board | J25: Wednesday
D26: Thursday | E26: 7 | F26: Housing Meeting, BSUST meeting with Janine, Flynn Tour, MOU edits, more committee, BBQ stuff, Catch up with locals re: how we can help | J26: Thursday
D27: Friday | E27: 5 | F27: David Clark meeting, FESC Plan, Campus Activation Reading, Student Bar Business Models, Protest 101 | J27: Friday
D28: Saturday | E28: 1.5 | F28: Student Bar business models, protest 101 | J28: Saturday
D29: Sunday | E29: 2 | F29: Student Bar Business Models. | J29: Sunday
E30: =SUM(E23:E29) -> 40 | K30: =SUM(K23:K29) -> 13
B32: Academic | C32: Hansini | D32: Day | E32: Hours | F32: Tasks | H32: International | I32: Irfaan | J32: Day | K32: Hours | L32: Tasks
D33: Monday | J33: Monday | K33: 7 | L33: Executive Induction Day 1
D34: Tuesday | J34: Tuesday | K34: 1 | L34: Cleared Emails, did not go for induction as I was unwell.
D35: Wednesday | J35: Wednesday | K35: 2 | L35: exec board meeting
D36: Thursday | J36: Thursday | K36: 0.5 | L36: Went through store with Belinda OUSA Clubs and Socs to check serverware for IFF.
D37: Friday | J37: Friday | K37: 0.5 | L37: Responded to some emails on IFF, filled out Tent City roster and provided questions as req by Flynn.
D38: Saturday | J38: Saturday
D39: Sunday | J39: Sunday
E40: =SUM(E33:E39) -> 0 | K40: =SUM(K33:K39) -> 11
B42: Welfare and Equity | C42: Rihana | D42: Day | E42: Hours | F42: Tasks | H42: Political | I42: Flynn | J42: Day | K42: Hours | L42: Tasks
D43: Monday | J43: Monday
D44: Tuesday | J44: Tuesday | K44: 7 | L44: exec induction day 2
D45: Wednesday | J45: Wednesday | K45: 4 | L45: sausage sizzle, exec board meeting
...

Sheet FEB 16 - 22
B2: President | C2: Daniel | D2: Day | E2: Hours | F2: Tasks | H2: Residential | I2: Zoe | J2: Day | K2: Hours | L2: Tasks
D3: Monday | E3: 10.5 | F3: Tent city, Council Audit & Risk committee, media, admin, emails & readings | J3: Monday | K3: 7 | L3: Tent city
D4: Tuesday | E4: 8.5 | F4: Emails, yarns, R1 interview, Uni ethical procurements committee, wayfinding presentation, emails, admin | J4: Tuesday | K4: 0.5 | L4: emails
D5: Wednesday | E5: 9.5 | F5: Admin, Tent city w/ set up & pack down, emails | J5: Wednesday | K5: 6 | L5: Tent city
D6: Thursday | E6: 6.75 | F6: Clubs day schmoozing, chat to james meager, couching | J6: Thursday | K6: 0.5 | L6: clubs day
D7: Friday | E7: 6.5 | F7: Emails, chats, admin, clean up of tent city, TRM BBQ, Grant & clocktower tour, Toga media | J7: Friday | K7: 2 | L7: mbie meeting, clocktower tour
D8: Saturday | J8: Saturday
D9: Sunday | E9: 2 | F9: Emails, Council readings, admin, tidying exec office | J9: Sunday
E10: =SUM(E3:E9) -> 43.75 | K10: =SUM(K3:K9) -> 16
B12: Admin Vice President | C12: Kamesha | D12: Day | E12: Hours | F12: Tasks | H12: Postgraduate | I12: Fergus | J12: Day | K12: Hours | L12: Tasks
D13: Monday | E13: 8.5 | F13: Tent City, Admin + emails | J13: Monday | K13: 5 | L13: Tent City
D14: Tuesday | E14: 5 | F14: debrief with troy, DDC alchohol review policy meeting, policy catch up, planning, emails and catch up on tasks | J14: Tuesday | K14: 1.5 | L14: APCSG Commitee
D15: Wednesday | E15: 7 | F15: tent city, HUMS Div board meeting, meeting w flynn and chloe, evening admin and prep for next coupla weeks | J15: Wednesday | K15: 5.5 | L15: Tent City, emails
D16: Thursday | E16: 2 | F16: clubs day, readings | J16: Thursday | L16: Clubs Day
D17: Friday | E17: 4 | F17: Grant+Clocktower tour, prep for HUMS committee meetings, POLCOM prep. Blocking of hours from 2-8 | J17: Friday | K17: 2 | L17: Clocktower tour, pride on campus
D18: Saturday | J18: Saturday | L18: IFF
D19: Sunday | J19: Sunday
E20: =SUM(E13:E19) -> 26.5 | K20: =SUM(K13:K19) -> 14
B22: Finance and Strategy | C22: Troy | D22: Day | E22: Hours | F22: Tasks | H22: Clubs and Socs | I22: Ella | J22: Day | K22: Hours | L22: Tasks
D23: Monday | E23: 9 | F23: Tent City, Bars Prop | J23: Monday
D24: Tuesday | E24: 7.5 | F24: catch up w/meesha, FESC Work, UOPISA planning, Protest Guidlines work, Committees, Memo's. Tour for Hansini and Rihana | J24: Tuesday | L24: Back in dunedin! Yay!
D25: Wednesday | E25: 8.5 | F25: Tent City, Meeting with Chloe and Fran | J25: Wednesday | K25: 2.5 | L25: Morning shift tent city + emails/readings
D26: Thursday | E26: 7 | F26: clubs day, chat with Arena, Rachel, James, Joseph | J26: Thursday | K26: 6 | L26: Clubs day!
D27: Friday | E27: 7 | F27: Catch up w/Tony, Clocktower Tour and chat w/Grant, Chat w/Debbie, Tidying up tent city, cleaning up, Pride on Lawn | J27: Friday
D28: Saturday | E28: 2 | F28: IFF | J28: Saturday
D29: Sunday | E29: 0.5 | F29: Registrar work, planning out Month ahead | J29: Sunday | K29: 2 | L29: Planning for meeting with Caroline and documentation
E30: =SUM(E23:E29) -> 41.5 | K30: =SUM(K23:K29) -> 10.5
B32: Academic | C32: Hansini | D32: Day | E32: Hours | F32: Tasks | H32: International | I32: Irfaan | J32: Day | K32: Hours | L32: Tasks
D33: Monday | E33: 2 | F33: O-Week Staff comms + admin + committee setup + paper proposal overview | J33: Monday | K33: 4 | L33: Tent City, emails and admin for Clubs Day
D34: Tuesday | E34: 6.5 | F34: Orientation, onboarding, general training, admin emails re Ori/tent city, Catching up on minutes and past training, paper proposal feedback | J34: Tuesday | K34: 3 | L34: Emails and discussion with Clubs and Socs staff on IFF.
D35: Wednesday | E35: 6 | F35: Tent City | J35: Wednesday | K35: 6 | L35: Tent city, responding to emails for clubs Day and IFF from clubs
D36: Thursday | E36: 5 | F36: Clubs day (Student Voice Collab) + Inerdivisional Undergraduate Degrees BoS meeting + Admin + Paper Proposal Feedback | J36: Thursday | K36: 6 | L36: Clubs Day event, international student welcome, more emails on IFF.
D37: Friday | E37: 4 | F37: Paper Proposal Feedback + Senate Admin + Emails + Clocktower Tour | J37: Friday | K37: 4 | L37: Clocktower tour, emails and catchup with Adlina on OISA matters.
D38: Saturday | J38: Saturday | K38: 6 | L38: International food festival
D39: Sunday | J39: Sunday
E40: =SUM(E33:E39) -> 23.5 | K40: =SUM(K33:K39) -> 29
B42: Welfare and Equity | C42: Rihana | D42: Day | E42: Hours | F42: Tasks | H42: Political | I42: Flynn | J42: Day | K42: Hours | L42: Tasks
D43: Monday | E43: 6 | F43: Set up for tent city and other OUSA Departments | J43: Monday | K43: 7.5 | L43: tent city (8-2:30, 4-5)
D44: Tuesday | E44: 6 | F44: Setting up email and looking over missed emails and doccuments, PGC bi-weekly meeting | J44: Tuesday | K44: 5 | L44: planning by-election event, responding to emails, making posters & prep (3 hours!)
D45: Wednesday | E45: 6 | F45: Set up tent city, Clinical Governace Meeting and worked the sausage sizzle | J45: Wednesday | K45: 6.5 | L45: meeting with chloe & fran, tent city, debate planning fluff
...

Sheet FEB 23 - 29
B2: President | C2: Daniel | D2: Day | E2: Hours | F2: Tasks | H2: Residential | I2: Zoe | J2: Day | K2: Hours | L2: Tasks
D3: Monday | E3: 9 | F3: Emails, admin, Exec meeting, Deprtments w/ Ella, more emails, Student job search meeting, photos, readings, more admin | J3: Monday | K3: 1 | L3: exec meeting
D4: Tuesday | E4: 9 | F4: Emails, Training catch up, Senate, admin, | J4: Tuesday
D5: Wednesday | E5: 4 | F5: Emails from home, IOD training | J5: Wednesday | K5: 2 | L5: uniflats meetings, emails
D6: Thursday | E6: 9 | F6: Meeting w/ prime campus, campus masterplan meeting, marketing meeting, emails, Uni Finance & budget meeting, admin, IOD training | J6: Thursday | K6: 1.5 | L6: Prime Campus (Tim Calder) meeting, emails
D7: Friday | F7: Away | J7: Friday | K7: 3.5 | L7: Handing out pamphlets, emails
D8: Saturday | F8: Away | J8: Saturday | K8: 2 | L8: Handing out pamphlets
D9: Sunday | E9: 2 | F9: Admin & Emails | J9: Sunday
E10: =SUM(E3:E9) -> 33 | K10: =SUM(K3:K9) -> 10
B12: Admin Vice President | C12: Kamesha | D12: Day | E12: Hours | F12: Tasks | H12: Postgraduate | I12: Fergus | J12: Day | K12: Hours | L12: Tasks
D13: Monday | E13: 3 | F13: Exec meeting, emials and scheduling, | J13: Monday | K13: 4.5 | L13: Dan Delany meeting, exec meeting, chat with Donna, responding to emails
D14: Tuesday | E14: 4 | F14: training catch up, meeting with dwaine, HUMS prep/reading, VCSSAG prep/readings | J14: Tuesday | K14: 4 | L14: Senate meeting, Grad Research council, responding to emails
D15: Wednesday | E15: 3 | F15: Catch up with Daniel - POSTPONED, Scheduling of week, agenda prep | J15: Wednesday | K15: 0
D16: Thursday | E16: 3.5 | F16: VCSSAG, VCSSAG post-meeting correspondance. Finalising out agenda, figuring out minuis. Emailing GenVote. | J16: Thursday | K16: 1.5 | L16: Emails, ethics commitee
D17: Friday | F17: away | J17: Friday | K17: 1.5 | L17: Grad Research council
D18: Saturday | F18: away | J18: Saturday
D19: Sunday | F19: away | J19: Sunday
E20: =SUM(E13:E19) -> 13.5 | K20: =SUM(K13:K19) -> 11.5
B22: Finance and Strategy | C22: Troy | D22: Day | E22: Hours | F22: Tasks | H22: Clubs and Socs | I22: Ella | J22: Day | K22: Hours | L22: Tasks
D23: Monday | E23: 5.5 | F23: Meeting w/Mukesh, Exec Meeting, 150 Anniversary sorting, By Election work | J23: Monday | K23: 4 | L23: Documents/emails, exec meeting, going around depts with Daniel, planning
D24: Tuesday | E24: 6 | F24: MOU, Catch up w/Zoe, General Admin etc, Organising stuff for Donna while shes away | J24: Tuesday | K24: 4 | L24: Meeting with Caroline, emails/planning, catch up training/chats with Kamesha/Daniel, planning affliated clubs council
D25: Wednesday | E25: 5 | F25: By election planning, critic chat, minute changes, fixing my monstoristy of a calendar | J25: Wednesday
D26: Thursday | E26: 5.5 | F26: VCSSAG, UUL Readings, General Election, FESC work Plan | J26: Thursday
D27: Friday | E27: 10 | F27: Meeting with Paul, Meeting with Debbie, Letter (AIR NZ), Planning Meetings around Bar etc, PAC Email, More Readings, Club Engagement, PAC Comms | J27: Friday | K27: 3 | L27: Planning affliated clubs council, making slides
D28: Saturday | E28: 2.5 | F28: Painting, Canva, Debate Planning General Electoin | J28: Saturday
D29: Sunday | E29: 1 | F29: Readings for TM Meeting | J29: Sunday | K29: 3 | L29: Going through new club affliliations
E30: =SUM(E23:E29) -> 35.5 | K30: =SUM(K23:K29) -> 14
B32: Academic | C32: Hansini | D32: Day | E32: Hours | F32: Tasks | H32: International | I32: Irfaan | J32: Day | K32: Hours | L32: Tasks
D33: Monday | E33: 5.5 | F33: Paper proposal feedback + Exec Meeting + General Admin and Emails | J33: Monday | K33: 2 | L33: Executive meeting, admin email
D34: Tuesday | E34: 6 | F34: Training catch up + Senate + Meeting with Tim Cooper + Special Topic Proposal Feedback + General Admin | J34: Tuesday | K34: 5 | L34: Prep and attendence of the Study Dunedin Advisory Group meeting at DCC, and OISA full team meeting
D35: Wednesday | E35: 4 | F35: DAB/SSC new rep search comms + General Staff Emails + Backlog Paper Proposal Feedback + Catch up on agendas and minutes from about ten million committees | J35: Wednesday
D36: Thursday | E36: 5 | F36: Meeting with Leda and Payton + Brightspace work + Faculty rep restructure + Committee Assignment Student Comms + More Paper Proposals | J36: Thursday | K36: 3 | L36: VCSSAG meeting, meeting with Director International Jason
D37: Friday | E37: 4 | F37: Standing Committee of the Sciences Div prep and meeting (recommendations on BSust) + Organising Faculty Rep programme | J37: Friday | K37: 0.5 | L37: Call with Adlina to discuss OISA matters
D38: Saturday | J38: Saturday
D39: Sunday | J39: Sunday
E40: =SUM(E33:E39) -> 24.5 | K40: =SUM(K33:K39) -> 10.5
B42: Welfare and Equity | C42: Rihana | D42: Day | E42: Hours | F42: Tasks | H42: Political | I42: Flynn | J42: Day | K42: Hours | L42: Tasks
D43: Monday | E43: 3.5 | F43: Exec meeting, filling out documents for donna & general admin | J43: Monday | K43: 1.5 | L43: Executive meeting, Christine Garey
D44: Tuesday | E44: 5 | F44: Training catch up w/ Hansini and Ella, reseaching for DEI workshop draft, met with social impact studio, emailing uopisa & MSA for thoughts | J44: Tuesday | K44: 0.5 | L44: Emails
D45: Wednesday | E45: 5 | F45: Working on proposal for DEI workshop, Meet with Alex for DSL 1-1, emails | J45: Wednesday | K45: 2 | L45: Emails, by-election & election planning
...

Sheet MAR 2 - 8
B2: President | C2: Daniel | D2: Day | E2: Hours | F2: Tasks | H2: Residential | I2: Zoe | J2: Day | K2: Hours | L2: Tasks
D3: Monday | E3: 8 | F3: Emails, Debbie catch up, Exec meeting, Invest Otepoti meeting in town, yarn to Zoe, catch up w/ Troy & call w/ Jeff | J3: Monday | K3: 1 | L3: exec meeting, emails, reading over agenda
D4: Tuesday | E4: 4 | F4: Catch up w/ Kamesha, FESC, emails, readings | J4: Tuesday | K4: 1 | L4: flat fest planning
D5: Wednesday | E5: 9.5 | F5: Troy + Kamesha catch up & meeting organising, emails, TRM stuff, admin, making council presentation, readings, board admin | J5: Wednesday | K5: 1.5 | L5: matt cutler meeting, catch up w/ Troy
D6: Thursday | E6: 9 | F6: Emails, Boardplan work, Hone Paul catch up, discussion about OUSA Socials, St paddys videoing, VUWSA catch up, Learner success plan meeting, emails, critic stuff, Opportunity party meet up, SPS SGM | J6: Thursday | K6: 4 | L6: emails, senior warden monthly catch-up, community law meeting, picking up a students tenancy case
D7: Friday | E7: 7 | F7: Dealing with all things critic, Mayor meeting, emails | J7: Friday | K7: 3 | L7: curtain bank meeting, exec discussion, tenancy case work
D8: Saturday | E8: 3.5 | F8: Some Council readings, emails & admin, scheduling | J8: Saturday
D9: Sunday | E9: 5 | F9: Rest of council readings, admin, Catch up w Trish | J9: Sunday | K9: 1 | L9: board meeting readings, students tenancy issues consult
E10: =SUM(E3:E9) -> 46 | K10: =SUM(K3:K9) -> 11.5
B12: Admin Vice President | C12: Kamesha | D12: Day | E12: Hours | F12: Tasks | H12: Postgraduate | I12: Fergus | J12: Day | K12: Hours | L12: Tasks
D13: Monday | E13: 3.5 | F13: HUMS Committee meeting, Exec meeting, admin, FESC reading | J13: Monday | K13: 1.5 | L13: Exec meeting, admin, reviewing paper proposals, scheduling
D14: Tuesday | E14: 4 | F14: catch up w daniel, FESC, beginning write up of exec meeting minutes, planning of celidh for denniston sign on, chats w hansini re AI stance, admin follow up of exec meeting (planning), response to paper feedback for MIndS | J14: Tuesday | K14: 3 | L14: Admin, emails, reviewing paper proposals, SPS organisation
D15: Wednesday | E15: 2 | F15: meetig w Troy + daniel, catch up w flynn | J15: Wednesday | K15: 1.5 | L15: Exec meet up, emails, sps organising
D16: Thursday | E16: 5 | F16: political guidlines meeting, finalising of minutes, chat w daniel, planning/reading for monday, denniston follow up, admin | J16: Thursday | K16: 2.5 | L16: Libary Services meeting, emails, exec catch up, SPS SGM
D17: Friday | E17: 5 | F17: genvote meeting, all things critic discussionm, emails. Prep for monday, review of protest guidlines | J17: Friday
D18: Saturday | J18: Saturday
D19: Sunday | E19: 3 | F19: Net Carbon Readings, monday meetings prep (reading and notes for subcommitee), emails, planning | J19: Sunday
E20: =SUM(E13:E19) -> 22.5 | K20: =SUM(K13:K19) -> 8.5
B22: Finance and Strategy | C22: Troy | D22: Day | E22: Hours | F22: Tasks | H22: Clubs and Socs | I22: Ella | J22: Day | K22: Hours | L22: Tasks
D23: Monday | E23: 6 | F23: Executive Meeting, Phone Call with Jeff, FESC Planning and Coversations, Chat with Debbie re NZUSA, Elections work, Payment approvals, MOU Writing | J23: Monday | K23: 5 | L23: Affliated clubs council planning, emails, HYBRID advertising
D24: Tuesday | E24: 5.5 | F24: FESC, Political Chats, Meeting Brian Roper, Protest Guidlines, FESC Report, Call w/Jeff | J24: Tuesday
D25: Wednesday | E25: 7 | F25: Chat with Daniel, Chat w Kamesha, MOU, Protest Guidlines, Emails, Phone call w/ David, Chat w Zoe, Rules reading | J25: Wednesday
D26: Thursday | E26: 6.5 | F26: Radio One Interview, HOTYF chats, Readings WEB PSC, Quick chat w/Dan, Chat w Critic, Timetabling Committee reading, TOP Chat | J26: Thursday | K26: 3 | L26: Emails, TiB meeting, Kamesha check in yayyy, SPS AGM
D27: Friday | E27: 4 | F27: Genvote, Critic Chat, Catch up w Zoe and Flynn, Timetabling Committee Correspondence, Marketing Chat | J27: Friday | K27: 1 | L27: Emails, admin, Q1 report
D28: Saturday | E28: 1.5 | F28: New Readings for Timetabling Committe (Agenda change) | J28: Saturday
D29: Sunday | E29: 2 | F29: UUL Final Readings Before Wed, Board Readings | J29: Sunday | K29: 3 | L29: Reading board pro documents
E30: =SUM(E23:E29) -> 32.5 | K30: =SUM(K23:K29) -> 12
B32: Academic | C32: Hansini | D32: Day | E32: Hours | F32: Tasks | H32: International | I32: Irfaan | J32: Day | K32: Hours | L32: Tasks
D33: Monday | E33: 4 | F33: Prepping for QAC + Organisation plan for AC + Faculty Rep programme set up comms with students and Leda + BAU (emails, admin, drafting paper proposal feedback) + Exec Meeting | J33: Monday | K33: 4 | L33: Internationalisation meeting with DVC External Engagement, Director International Jason Cushen and others. Also cleared some emails in relation to OISA planning.
D34: Tuesday | E34: 6 | F34: QAC prep + Paper Proposals + Actual QAC + Faculty rep work with Leda + Academic Committee drafting + AI stance work | J34: Tuesday | K34: 5 | L34: Admin, response to emails, discussion on AI stance with Kamesha, and [bulk time] studied the prep documentation for HSIC meeting, brainstorming with Rihanna on Welfare workshop
D35: Wednesday | E35: 4 | F35: More faculty rep work with Leda + General Admin and Emails + Backlogged Paper proposals + Discussion with PPE director + Drafting what iIwant OUSA AC to look like this year pre first meeting | J35: Wednesday | K35: 2.5 | L35: Preparation for and attending the ISRMG Quarterly Meeting.
D36: Thursday | E36: 4 | F36: More AC drafting + talks with student support re scholarships and hardship funds (part of research for paid placement project) | J36: Thursday
D37: Friday | E37: 4 | F37: AI Policy work w Kameesha + Paper Proposal + AC Agenda and members organisation + Chat w Daniel and Kameesha re Meetings | J37: Friday | K37: 1.5 | L37: Interview with 'Adlina, by OARFM Arina Aizal, to share more about OUSA/OISA and ISR roles. Also more emails response.
D38: Saturday | J38: Saturday
D39: Sunday | J39: Sunday
E40: =SUM(E33:E39) -> 22 | K40: =SUM(K33:K39) -> 13
B42: Welfare and Equity | C42: Rihana | D42: Day | E42: Hours | F42: Tasks | H42: Political | I42: Flynn | J42: Day | K42: Hours | L42: Tasks
D43: Monday | E43: 1 | F43: Exec Meeting, Meeting Readings, Starting reseach and draft for fees increase post | J43: Monday | K43: 2 | L43: Exec meeting, admin
D44: Tuesday | E44: 5.5 | F44: Sending out information for Welfare committee, drafted a workshop outline for MUSA because of inclusivity concerns w/ Irfaan, responding to emails, filming for Exec insta, discussion political posts concerns, PCG meeting | J44: Tuesday | K44: 7 | L44: Mandy, Steve, Marie, Victor, Troy meetings & by-election planning
D45: Wednesday | E45: 1 | F45: Meeting with Barb Long | J45: Wednesday | K45: 1 | L45: Emails, admin
...

Sheet MAR 9 - 15
B2: President | C2: Daniel | D2: Day | E2: Hours | F2: Tasks | H2: Residential | I2: Zoe | J2: Day | K2: Hours | L2: Tasks
D3: Monday | E3: 12 | F3: Governance meeting & Deloitte committee meeting, Exec board meeting, revaluation meeting, catch up w/ Donna, Kamesha & Troy, Chairing TRM SGM, emailing and other personal admin | J3: Monday | K3: 0.2 | L3: tenancy magnets pick up, emails
D4: Tuesday | E4: 10.75 | F4: Council all day, emails, catch up w Stella and Troy, emails, emails & admin | J4: Tuesday | K4: 1 | L4: Council meeting, emails, tenancy case
D5: Wednesday | E5: 8 | F5: Emails, Council induction meetings, ANZAC day meeting, hatemail, emails, critic interview | J5: Wednesday
D6: Thursday | E6: 5.5 | F6: St paddy's meeting, emails, exec agenda w Donna, emails, affiliated clubs council | J6: Thursday | K6: 0.25 | L6: Picking up tenancy magnets from MBIE
D7: Friday | E7: 6.5 | F7: Emails, Writing quarter 1 report, Deloitte catch up, K&T catch up, Ri catch up, NDSA catch up | J7: Friday | K7: 2 | L7: Emails, tenancy case, media enquiry from ODT
D8: Saturday | J8: Saturday | K8: 2 | L8: Quarterly Report, renters united merch
D9: Sunday | E9: 0.5 | F9: Admin | J9: Sunday | K9: 5 | L9: Handing out pamphlets
E10: =SUM(E3:E9) -> 43.25 | K10: =SUM(K3:K9) -> 10.45
B12: Admin Vice President | C12: Kamesha | D12: Day | E12: Hours | F12: Tasks | H12: Postgraduate | I12: Fergus | J12: Day | K12: Hours | L12: Tasks
D13: Monday | E13: 6.5 | F13: Governance meeting & Deloitte committee meeting, Exec board meeting, catch up w/ Donna, Kamesha & Troy, meeting w adam currie re dennisoton ceildh planning | J13: Monday | K13: 5.5 | L13: Exec Board meeting, GRS Catch Up, Dan Delany meeting, SPS disolvancy, chat with Troy
D14: Tuesday | E14: 2.5 | F14: Lunch w council reps, AI stance planning w Hansisni, denniston planning | J14: Tuesday | K14: 1 | L14: Univeristy Council
D15: Wednesday | E15: 3 | F15: net zero carbon commitee meeting, chat w debbie, anzac day meeting, admin | J15: Wednesday
D16: Thursday | E16: 3 | F16: Admin + emails, chat w ingrid and jamie about tertiary open day, writing quaterly report, readings for monday board, brainstorm of election engagment ideas | J16: Thursday | K16: 0.5 | L16: Sorting emails and scheduling, organising quaterly report
D17: Friday | E17: 3 | F17: admin + oscheduling, chat w daniel + troy re extra OUSA reps, chatting update on critic drama, finialisng quaterly rept, | J17: Friday
D18: Saturday | E18: 1 | F18: reviving POLCOM admin, plan for forum | J18: Saturday
D19: Sunday | E19: 2 | F19: planning for the week ahed, notes ready for tuesday meeting + hums div board | J19: Sunday | K19: 2 | L19: Putting quartly report together, emails, sorting SP, AI stance thingy.
E20: =SUM(E13:E19) -> 21 | K20: =SUM(K13:K19) -> 9
B22: Finance and Strategy | C22: Troy | D22: Day | E22: Hours | F22: Tasks | H22: Clubs and Socs | I22: Ella | J22: Day | K22: Hours | L22: Tasks
D23: Monday | E23: 9 | F23: CEO Meeting, Board Meeting, Timetabling Committee, "Debreif" | J23: Monday | K23: 3 | L23: Admin, Q1 report, board meeting
D24: Tuesday | E24: 9 | F24: Letters for General Election, Finalising General Election Debate, Council Lunch | J24: Tuesday | K24: 4 | L24: Caroline meeting, Olivia meeting, Q1 report, emails and admin
D25: Wednesday | E25: 7.5 | F25: UUL, Web Transformation Readings, Web Transformation PSC, Anzac Day Prep | J25: Wednesday | K25: 1 | L25: Emails, club council prep
D26: Thursday | E26: 8.5 | F26: MOU writing, Deloitte Report Writing, Agenda preparing, Got us $2500 grant, Matt questions, Clubs Council, Reading SLT | J26: Thursday | K26: 4 | L26: Affiliated clubs council + prep
D27: Friday | E27: 4.5 | F27: Finishing the MOU, Deloitte Review Meeting, Begining my quaterly report, Chat w Mesha and Dan | J27: Friday | K27: 4 | L27: Process club council feedback w Caroline
D28: Saturday | E28: 2.5 | F28: Finishing quaterly report | J28: Saturday
D29: Sunday | E29: 2 | F29: Exec meeting readings | J29: Sunday | K29: 2 | L29: Club affliliation prep for meeting
E30: =SUM(E23:E29) -> 43 | K30: =SUM(K23:K29) -> 18
B32: Academic | C32: Hansini | D32: Day | E32: Hours | F32: Tasks | H32: International | I32: Irfaan | J32: Day | K32: Hours | L32: Tasks
D33: Monday | E33: 7 | F33: Reading Meeting Pack + Board Meeting + MBus Consultation + RELS Paper Proposal Feedback + Meeting with Russell re: AI Policy | J33: Monday | K33: 3 | L33: Emails, reading meeting minutes for HSIC prep, and read to prepare for Executive Board Meeting
D34: Tuesday | E34: 5 | F34: AI Stance Planning w/ Kamesha + Lunch with UC + Paper Proposals and Consultation + Survey | J34: Tuesday | K34: 2 | L34: Meetings with OISA (Prep for year) and MUSA (Betterment Workshop)
D35: Wednesday | E35: 4 | F35: Emails + Admin + Started Quarterly Report + Even more paper proposals yay | J35: Wednesday | K35: 2 | L35: Admin, Emails, Executive Board Meeting
D36: Thursday | E36: 5 | F36: Meeting with Alice La Rooy + Reading the Digital Learning Programme Report files and research + Emails + Admin + MORE PAPERS PROPOSED | J36: Thursday | K36: 3.5 | L36: HSIC meeting, work on Quarterly report, Clubs and Socs Affiliated Clubs meeting
D37: Friday | J37: Friday | K37: 2.5 | L37: Work on Quarterly report and completed it, meeting with OAR Arina Aizal on Podcast restarting
D38: Saturday | J38: Saturday
D39: Sunday | J39: Sunday
E40: =SUM(E33:E39) -> 21 | K40: =SUM(K33:K39) -> 13
B42: Welfare and Equity | C42: Rihana | D42: Day | E42: Hours | F42: Tasks | H42: Political | I42: Flynn | J42: Day | K42: Hours | L42: Tasks
D43: Monday | E43: 1 | F43: EAC meeting | J43: Monday | K43: 1.5 | L43: Board meeting
D44: Tuesday | F44: OUT SICK | J44: Tuesday | K44: 4.5 | L44: general election letters, POSTER, by-election questions, organising crim event, paddles
D45: Wednesday | F45: OUT SICK | J45: Wednesday | K45: 5 | L45: Parmjeet Parmar, feedback station + poster (ages)
...

Sheet MAR 16 - 22
B2: President | C2: Daniel | D2: Day | E2: Hours | F2: Tasks | H2: Residential | I2: Zoe | J2: Day | K2: Hours | L2: Tasks
D3: Monday | E3: 9.5 | F3: Finishing Quarter report, emails, Debbie catch up, Exec meeting, Fran, COO catch up, Open day chat, WG on Uni naming, Gina long catch up, emails | J3: Monday | K3: 1.5 | L3: exec meeting, emails
D4: Tuesday | E4: 8 | F4: St paddys BBQ & media, Deloitte committee catch up | J4: Tuesday | K4: 3 | L4: tenancy case, healthy homes research, flat fest planning
D5: Wednesday | E5: 7 | F5: Protest guidelines meeting, emails, critic stuff again, UCSA Governance discussion, TRM catch up, catch up w Kamesha and Troy | J5: Wednesday | K5: 4 | L5: flat fest finalising, emails, Rhi's DEI proposal, pamphlet drop to Community Law
D6: Thursday | E6: 7 | F6: Emails, Flat fest, column writing, catch up with Kamesha + Troy | J6: Thursday | K6: 5 | L6: flat fest
D7: Friday | E7: 8.5 | F7: Emails, PAC, Presidents' Conference day 1, chat to Troy, catch up w Flynn, catch up w Donna | J7: Friday
D8: Saturday | E8: 4.5 | F8: Emails, Board agenda, Conference day 2 | J8: Saturday
D9: Sunday | E9: 5 | F9: Day 3 | J9: Sunday | K9: 0.5 | L9: meeting readings
E10: =SUM(E3:E9) -> 49.5 | K10: =SUM(K3:K9) -> 14
B12: Admin Vice President | C12: Kamesha | D12: Day | E12: Hours | F12: Tasks | H12: Postgraduate | I12: Fergus | J12: Day | K12: Hours | L12: Tasks
D13: Monday | E13: 4.5 | F13: Morning admin, Exec Meeting, chatting open-day w marketing, meeting w Ingrid/Events about denniston, redoing forms, POLCOM work | J13: Monday | K13: 3 | L13: Exec meeting, emails and admin, SPS still, quarterly report
D14: Tuesday | E14: 4 | F14: Deloitte Commitee Catch Up, AI stance work, readings and prep for div board meeting thoughts, brief catch up w hanna | J14: Tuesday | K14: 1 | L14: Organising final SPS matters
D15: Wednesday | E15: 7.5 | F15: Protest Guidlines meeting, Catch up with Gina mind blown, deloitte catch up and work with troy, admin and workshopping critic stuff w daniel, admin to completly rework POLCOM 4 the year big stuff whoop | J15: Wednesday | K15: 2 | L15: Closing Booking an apointment to close SPS bank account, emails
D16: Thursday | E16: 7 | F16: admin + emails, Flat Fest, sending out polcom stuff, catch up with Flynn, catch up w Ella about clubs and socs stuff and policy around that | J16: Thursday | K16: 2 | L16: Flat fest, emails and admin
D17: Friday | F17: away | J17: Friday
D18: Saturday | F18: away | J18: Saturday
D19: Sunday | E19: 1 | F19: reading + prep | J19: Sunday
E20: =SUM(E13:E19) -> 24 | K20: =SUM(K13:K19) -> 8
B22: Finance and Strategy | C22: Troy | D22: Day | E22: Hours | F22: Tasks | H22: Clubs and Socs | I22: Ella | J22: Day | K22: Hours | L22: Tasks
D23: Monday | E23: 6.5 | F23: Exec Meeting, Debbie Chat, MOU payments, TiB chats, FESC Minute | J23: Monday | K23: 1 | L23: exec meeting
D24: Tuesday | E24: 4 | F24: Deloitte Committee, Deloitte work, Flat Fest Planinng | J24: Tuesday | K24: 6.5 | L24: St Patrick's BBQ, Meeting with caroline, olivia, shannon at OUSA clubs and socs. Emails, administration. processing feedback from affililated clubs council. content creation for C&S recreation (pottery)
D25: Wednesday | E25: 8 | F25: Deloitte work, Chat w Mukesh about Holdings, Matt, Helping Donna, Former AVP catch up, Constitution Reading, SGM and Minute Reading for campaigns. Chat w Daniel and Kamesha, Crim Soc Meeting, Protest Guidlines | J25: Wednesday | K25: 2 | L25: attend HSOC event
D26: Thursday | E26: 8 | F26: Flat Fest, Deloitte, Grants reading P1 | J26: Thursday | K26: 3 | L26: Meeting with Kamesha, administration, sorting through feedback still
D27: Friday | E27: 5.5 | F27: PAC, Meeting w Steve, Meeting with the Mayor, PAC minutes, Chat w Dan, Chat w Flynn | J27: Friday | K27: 1 | L27: Check in with Caroline
D28: Saturday | E28: 1.5 | F28: Grant Readings P2 | J28: Saturday
D29: Sunday | E29: 1 | F29: Board Readings | J29: Sunday | K29: 3 | L29: Administration, affiliated clubs council paper work, board pro reading, club affiliation paper work
E30: =SUM(E23:E29) -> 34.5 | K30: =SUM(K23:K29) -> 16.5
B32: Academic | C32: Hansini | D32: Day | E32: Hours | F32: Tasks | H32: International | I32: Irfaan | J32: Day | K32: Hours | L32: Tasks
D33: Monday | E33: 6.5 | F33: Finishing Q1 Report, Emails, Faculty Rep Programme Launch finally up and running YAY! Prep & readings for DSAB meeting, the actual DSAB meeting, Investment dual paper consult | J33: Monday | K33: 4 | L33: Exec meeting, emails and admin; NZISA Reps council meeting
D34: Tuesday | E34: 5 | F34: ST PADDYS BBQ YAYAYAYA, paper proposals not so yay, more work around AI stuff yaps with Russsel | J34: Tuesday | K34: 3 | L34: Exec barbeque, responding to admin and emails, brief on Otago Chaplaincy ahead of 19 March meeting
D35: Wednesday | E35: 5 | F35: Every admin ever this week Academic Committee Agenda minor consults + Prep notes for talking with James | J35: Wednesday
D36: Thursday | E36: 4 | F36: Meeting with James DVC-A, More AI work free us | J36: Thursday | K36: 2 | L36: OISA Executive Meeting with Adlina to plan for OISA Meet and Greet
D37: Friday | E37: 3.5 | F37: DLE readings for advisoru opinion about Brightspace | J37: Friday
D38: Saturday | J38: Saturday
D39: Sunday | J39: Sunday | K39: 2 | L39: Invitation from the Pakistani Community of Otago to attend the eid event.
E40: =SUM(E33:E39) -> 24 | K40: =SUM(K33:K39) -> 11
B42: Welfare and Equity | C42: Rihana | D42: Day | E42: Hours | F42: Tasks | H42: Political | I42: Flynn | J42: Day | K42: Hours | L42: Tasks
D43: Monday | E43: 3 | F43: Writing Quarterly Report, exec meetig | J43: Monday | K43: 1.5 | L43: Exec meeting
D44: Tuesday | E44: 7 | F44: St paddys bbq, Clinical Governance meeting, Student Health Focus Group, Sexual Harm Committee | J44: Tuesday
D45: Wednesday | E45: 2 | F45: Meeting with Disabilities office about ODSA, checking emails | J45: Wednesday | K45: 3 | L45: Criminology Society meeting, crim event planning, enrolment stall planning
...

Sheet MAR 23 - 29
B2: President | C2: Daniel | D2: Day | E2: Hours | F2: Tasks | H2: Residential | I2: Zoe | J2: Day | K2: Hours | L2: Tasks
D3: Monday | E3: 8.5 | F3: Emails, Debbie catch up, admin, Exec Board meeting, Lunch w Gina and co, emails, critic stuff | J3: Monday
D4: Tuesday | E4: 8.5 | F4: Emails, grants panel, campus masterplan consultation, catch up w Ella & kamesha, women's safety meeting, Debbie catch up, Troy catch up, chat w Matt | J4: Tuesday | K4: 0.5 | L4: emails and admin, organising meetings
D5: Wednesday | E5: 8.5 | F5: Emails, recording a video part, random admin activities, welfare committee, covering market day, PolCom, reading quarter reports, admin w Kamesha | J5: Wednesday
D6: Thursday | E6: 9 | F6: Emails, council readings, voter enrolment & campus masterplan in the link, emails, admin, and chats, Hybrid | J6: Thursday
D7: Friday | E7: 9.25 | F7: Emails, Debbie & Gina catch up, admin w/ Kamesha, Council committee, catch up w/ Adam, critic catch up, mentor catch up, scholarship evening | J7: Friday | K7: 2 | L7: reading quarterly reports, meeting readings
D8: Saturday | J8: Saturday | K8: 4 | L8: admin, green sticker system initial write up, emailing residential committee contacts
D9: Sunday | E9: 0.5 | F9: Admin | J9: Sunday | K9: 1.5 | L9: handing out pamphlets
E10: =SUM(E3:E9) -> 44.25 | K10: =SUM(K3:K9) -> 8
B12: Admin Vice President | C12: Kamesha | D12: Day | E12: Hours | F12: Tasks | H12: Postgraduate | I12: Fergus | J12: Day | K12: Hours | L12: Tasks
D14: Monday | E14: 6 | F14: office admin, exec meeting, emails, pre polcom work and meetings, lunch w Gina and co | J14: Monday
D15: Tuesday | E15: 6 | F15: office admin, student club outreach, meeting w Stephen Willis, call w adam, catch up w hanna | J15: Tuesday | K15: 3 | L15: Reviewing ethics committee proposals, admin, emails
D16: Wednesday | E16: 5 | F16: morning admin, POLCOM, chat w donna re admin, admin w daniel, reading qtr reports | J16: Wednesday | K16: 4 | L16: Senate meeting, ethic review, admin, chats with Daniel and Kamesha, sorting meeting dates
D17: Thursday | E17: 3 | F17: campus masterplan stuff in hunter centre and auahi ora, meeting w TiB | J17: Thursday | K17: 6 | L17: Ethics commitee, emails, HYBRID
D18: Friday | E18: 4 | F18: admin w daniel, policy work, finishing reading of quaterly repts, meeting w critic | J18: Friday | K18: 2.5 | L18: Quiz & Queens
D19: Saturday | J19: Saturday
D20: Sunday | E20: 2 | F20: reading, prep and admin for week ahed | J20: Sunday
E21: 26 | K21: =SUM(K14:K20) -> 15.5
B23: Finance and Strategy | C23: Troy | D23: Day | E23: Hours | F23: Tasks | H23: Clubs and Socs | I23: Ella | J23: Day | K23: Hours | L23: Tasks
D24: Monday | E24: 7.5 | F24: Board Meeting, Catch up w/Gina, Shit ton of admin and emails, First ANZAC letters, Catch up w/Donna, | J24: Monday
D25: Tuesday | E25: 8 | F25: Grants Panel, S4P, TRM Visit, Debbie catch up, Telling off, Hybrid, | J25: Tuesday | K25: 7 | L25: Grants panel, meeting with shannon, administration and prep for events/fundraising guide, TWT meeting re:clubs
D26: Wednesday | E26: 7 | F26: POLCOM, Policy Reading, FESC Minutes, FESC Agenda, Reporting, Catch up w Matt, Market Day | J26: Wednesday | K26: 1.5 | L26: Human library!
D27: Thursday | E27: 2.5 | F27: Campus Masterplan, Voter enrolment, | J27: Thursday | K27: 4 | L27: Editing/filming TiB spotlight video, Hybrid prep, administration/reading
D28: Friday | E28: 3 | F28: Referendum/Political Work, Emails, Liz voicing her concerns, Welfare chat with Rihana | J28: Friday | L28: Meeting with Rihana! <3 was sick :(
D29: Saturday | E29: 8 | F29: Quaterly Reports, Code of Conduct Writing, Peace Garden | J29: Saturday
D30: Sunday | E30: 2 | F30: Readings for club affilations | J30: Sunday
E31: =SUM(E24:E30) -> 38 | K31: =SUM(K24:K30) -> 12.5
B33: Academic | C33: Hansini | D33: Day | E33: Hours | F33: Tasks | H33: International | I33: Irfaan | J33: Day | K33: Hours | L33: Tasks
D34: Monday | E34: 5.5 | F34: Meeting w/ Leda and Payton + Finalising Faculty Reps + Reinvigorating AC as AI Steering Committee work w/ Payton + Pre Exec Meeting Readings and Prep + Exec Meeting | J34: Monday
D35: Tuesday | E35: 4.5 | F35: DLE PSC Meeting Pack prep + DLE Meeting + Paper Proposals + More admin emails + Work w/ Tim and James re AI in Assessment Policy new sub committee formed | J35: Tuesday
D36: Wednesday | E36: 6 | F36: Senate meeting prep + DLA Meeting Prep + Senate Meeting + DLA Meeting + Admin + Emails + Prep for Breakfast Interview w Zac | J36: Wednesday | K36: 4 | L36: Emails, International Meet & Greet, Market Day
D37: Thursday | E37: 5 | F37: Paper Proposals + CALT meeting preparation + CALT meeting + Emails + HYBRID workshop | J37: Thursday | K37: 3 | L37: HYBRID, Email to Jason over meningoccocal vaccination and outbreak, discussion with Rihanna on MUSA.
D38: Friday | E38: 2 | F38: Emails I should have done yesterday and those paper prosposals | J38: Friday | K38: 1 | L38: Prep with OISA/MUSA for Eid Al-Fitr event
D39: Saturday | J39: Saturday | K39: 3 | L39: OISA/MUSA Event co-organisation, emails.
D40: Sunday | J40: Sunday
E41: =SUM(E34:E40) -> 23 | K41: =SUM(K34:K40) -> 11
B43: Welfare and Equity | C43: Rihana | D43: Day | E43: Hours | F43: Tasks | H43: Political | I43: Flynn | J43: Day | K43: Hours | L43: Tasks
D44: Monday | E44: 0.5 | F44: Checking emails | J44: Monday | K44: 3 | L44: Board meeting, emails + planning
D45: Tuesday | E45: 2 | F45: Checking emails, preping for welfare committee | J45: Tuesday | K45: f | L45: Staff for Palestine meeting, mentor meeting, speaking at POLSA meeting
D46: Wednesday | E46: 5.5 | F46: Welfare Comittee, writing up mins, planing TiB sexual harm response questionair, human library | J46: Wednesday | K46: 4.5 | L46: Council submission, confirming voting booths, market day stall, POLCOM
...

Sheet MAR 30 - APR 5
B2: President | C2: Daniel | D2: Day | E2: Hours | F2: Tasks | H2: Residential | I2: Zoe | J2: Day | K2: Hours | L2: Tasks
D3: Monday | E3: 8.5 | F3: Admin w Donna, Exec meeting, Rachel Brooking catch up, Uni signage and wayfinding project meeting, Code of conduct meeting, critic videoing, Debbie catch up, emails | J3: Monday | K3: 2 | L3: exec meeting, emails
D4: Tuesday | E4: 8.5 | F4: Emails, Deloitte Committee, admin, campus masterplan engagement w Rihana, critic stuff, emails | J4: Tuesday
D5: Wednesday | E5: 8.5 | F5: Emails and readings, FESC, Kamesha catch up, long TRM x UOPISA catch up, emails and organising | J5: Wednesday | K5: 2.5 | L5: DCC Spatial Plan meeting, admin
D6: Thursday | E6: 9 | F6: Fuel crisis WG, Emails, chat to Debbie & Donna, Governance review work, Paid placements NZ Presidents work, Council AI governance training | J6: Thursday | K6: 2.5 | L6: Catch up / Kamesha, Monthly Senior Warden catch up
D7: Friday | E7: 1.5 | F7: More council training online, emails | J7: Friday | K7: 0.5 | L7: emails
D8: Saturday | F8: AWAY | J8: Saturday
D9: Sunday | F9: AWAY | J9: Sunday | K9: 1.5 | L9: readings
E10: =SUM(E3:E9) -> 36 | K10: =SUM(K3:K9) -> 9
B12: Admin Vice President | C12: Kamesha | D12: Day | E12: Hours | F12: Tasks | H12: Postgraduate | I12: Fergus | J12: Day | K12: Hours | L12: Tasks
D13: Monday | E13: 4 | F13: coffee w Fergus, admin, Exec Meeting, Conduct Meeting w Daniel | J13: Monday | K13: 4 | L13: Coffee with Kamesha, emails, exec meeting, general admin
D14: Tuesday | E14: 3.5 | F14: Deloitte Commitee Meeting, Chatting Financial landscape of OUSA w Matt, paper proposal feedback | J14: Tuesday | K14: 1 | L14: GRS Meeting, admin, etc
D15: Wednesday | E15: 5 | F15: FESC, writing critic collumn, minute tidying and policy work and more bloody admin | J15: Wednesday | K15: 3 | L15: SPS Bank account, Dan meeting
D16: Thursday | E16: 4.5 | F16: Morning admin, website stuff, Catch up w Zoe, paper proposal feedback and HUMS div board prep. | J16: Thursday | K16: 1 | L16: Emails, admin, chat with Daniel
D18: Friday | F18: reading, governance research | J18: Friday
D19: Saturday | J19: Saturday
D20: Sunday | J20: Sunday
E21: =SUM(E13:E20) -> 17 | K21: =SUM(K13:K20) -> 9
